BEGIN:VCALENDAR
VERSION:2.0
PRODID:-//tavpa.org - ECPv6.15.15//NONSGML v1.0//EN
CALSCALE:GREGORIAN
METHOD:PUBLISH
X-WR-CALNAME:tavpa.org
X-ORIGINAL-URL:https://tavpa.org
X-WR-CALDESC:Events for tavpa.org
REFRESH-INTERVAL;VALUE=DURATION:PT1H
X-Robots-Tag:noindex
X-PUBLISHED-TTL:PT1H
BEGIN:VTIMEZONE
TZID:UTC
BEGIN:STANDARD
TZOFFSETFROM:+0000
TZOFFSETTO:+0000
TZNAME:UTC
DTSTART:20250101T000000
END:STANDARD
END:VTIMEZONE
BEGIN:VTIMEZONE
TZID:America/Chicago
BEGIN:DAYLIGHT
TZOFFSETFROM:-0600
TZOFFSETTO:-0500
TZNAME:CDT
DTSTART:20240310T080000
END:DAYLIGHT
BEGIN:STANDARD
TZOFFSETFROM:-0500
TZOFFSETTO:-0600
TZNAME:CST
DTSTART:20241103T070000
END:STANDARD
BEGIN:DAYLIGHT
TZOFFSETFROM:-0600
TZOFFSETTO:-0500
TZNAME:CDT
DTSTART:20250309T080000
END:DAYLIGHT
BEGIN:STANDARD
TZOFFSETFROM:-0500
TZOFFSETTO:-0600
TZNAME:CST
DTSTART:20251102T070000
END:STANDARD
BEGIN:DAYLIGHT
TZOFFSETFROM:-0600
TZOFFSETTO:-0500
TZNAME:CDT
DTSTART:20260308T080000
END:DAYLIGHT
BEGIN:STANDARD
TZOFFSETFROM:-0500
TZOFFSETTO:-0600
TZNAME:CST
DTSTART:20261101T070000
END:STANDARD
END:VTIMEZONE
BEGIN:VEVENT
DTSTART;TZID=UTC:20260305T100000
DTEND;TZID=UTC:20260331T170000
DTSTAMP:20260420T050920
CREATED:20260205T084250Z
LAST-MODIFIED:20260215T110053Z
UID:9531-1772704800-1774976400@tavpa.org
SUMMARY:Her Voice: Celebrating Women’s Voices Through Art in Dallas
DESCRIPTION:HER VOICE\nGroup Exhibition | International Women’s Day\nDates: March 5–31\nOpening Reception: March 5\, 6:00–9:00 PM \nLocation:\nSPACE at Adolphus Tower\n1412 Main St\, Dallas\, TX 75202 \nCurated by: Nur Gürel\nPresented by: TAVPA – Turkish American Visual and Performing Arts Association\nIn partnership with: Dallas College\, School of Creative Arts\, Entertainment & Design \n\nAbout the Exhibition\nHer Voice is a group exhibition created in honor of International Women’s Day.\nThe exhibition brings together women artists who have been studying and developing their artistic practice\nunder the guidance of Nur Gürel. Many of the participants are amateur artists who are\npresenting their work publicly for the first time\, sharing personal reflections through painting and narrative. \nEach artwork responds to a single question: \n“Who am I?” \nPaired with short written statements\, the works transform private creativity into collective visibility. \n\nArtists\n\nAyla Deveci\nÇiğdem Deveci\nDerya Sertler\nDerya Topaktaş\nEbru Denizci Umul\nElif Çakır\nMelda Çipli-Clark\nMeray Koçak\nNimet Kara\nNur Gürel\nNuşin Van Winkle\nÖzlem Mizrahi\nPelin Güzel\nStaci Pirnar\nTuğba Tuzlacı\n\n\nOpening Reception\nMarch 5 | 6:00–9:00 PM\nSPACE at Adolphus Tower \n\nVisiting Information\nExhibition on view March 5–31\nOpen by appointment only: 972-730-2257 \n\nAbout TAVPA\nTAVPA is a registered 501(c)(3) nonprofit organization dedicated to promoting Turkish art and culture\nand fostering connection through the arts. \nwww.tavpa.org\nInstagram: @tavpa_art\nEmail: info@tavpa.org \nCollaborators\n@space_adolphustower @dallascollegegalleries @fgiiifineartproductions @downtown_dallas @HoqueGlobal
URL:https://tavpa.org/event/hervoice/
LOCATION:Space at Adoplhus Tower\, 1412 Main St\,\, Dallas\, TX\, 75202\, United States
CATEGORIES:Charity Events,Community Event,Upcoming Events
ORGANIZER;CN="TAVPA":MAILTO:info@tavpa.org
END:VEVENT
BEGIN:VEVENT
DTSTART;TZID=America/Chicago:20250927T163000
DTEND;TZID=America/Chicago:20250928T160000
DTSTAMP:20260420T050920
CREATED:20250824T042228Z
LAST-MODIFIED:20260205T065201Z
UID:9228-1758990600-1759075200@tavpa.org
SUMMARY:Click for Dallas Turkish Film Festival
DESCRIPTION:🎉 Be Part of Something Extraordinary!\nJoin Turkish American Visual and Performing Arts (TAVPA) as we proudly present the First-Ever Dallas Turkish Film Festival — a weekend of cinema\, culture\, and connection. \n\n✨ Event 1: Opening Film & Red Carpet Reception📍 Angelika Dallas📅 Saturday\, Sept 27 \n\nIstanbul Trilogy  MEZE – MUSIC – MUHABBET  – a captivating cinematic experience by world-renowned director Ferzan Özpetek  – 65 minutes\nRed Carpet Reception: 4:30 PM\nFilm Screening: 5:30 PM\n\n\n🍷 Event 2: Festival Cocktail at The Lorenzo Hotel: Golden Nights — Where Stories Shine Beyond Borders📍 The Lorenzo Hotel Rooftop\, Downtown Dallas📅 Saturday\, Sept 27 – 7:30 PMAn unforgettable evening featuring:💃 Captivating Dance Performances🎶 Live Music🍽️ Culinary Experience by Chef Kubilay – Winner of America’s Best Chef✨ Dress Code: Semi-Formal with a touch of gold encouragedAll set against the breathtaking Dallas skyline. \n\n🎬 Event 3: Featured Documentary & Closing Reception📍 Angelika Dallas📅 Sunday\, Sept 28 – 2:30 PM \n\nGolden Opulence: 500 Years of Luxury in Anatolia — an exquisite exploration of Anatolian heritage\, directed by acclaimed Khadifa Wong  – 50 Minutes\nClosing Reception immediately following the screening\n\n* Free Parking Available at Angelika Film Center & Café – Dallas \nClick Here to buy Tickets\nLearn More
URL:https://tavpa.org/event/dallas-turkish-film-festival/
LOCATION:Angelika Film Center & Café\, 5321 E Mockingbird Ln #230\, Dallas\, TX\, 75206\, United States
CATEGORIES:Charity Events
ATTACH;FMTTYPE=image/png:https://tavpa.org/wp-content/uploads/2025/08/DTFF-2-scaled.png
ORGANIZER;CN="TAVPA":MAILTO:info@tavpa.org
END:VEVENT
BEGIN:VEVENT
DTSTART;TZID=America/Chicago:20250322T170000
DTEND;TZID=America/Chicago:20250322T190000
DTSTAMP:20260420T050920
CREATED:20250303T193410Z
LAST-MODIFIED:20260205T065254Z
UID:9024-1742662800-1742670000@tavpa.org
SUMMARY:Ashik Veysel "LET MY FRIENDS REMEMBER ME"
DESCRIPTION:UNESCO renowned Asik Veysel 52nd Year Remembrance Program \nExcitement is in the air! Get ready to be part of something extraordinary at \nTurkish American Visual And Performing Arts‘s fundraising event. \nEvery registration to this event will bring us closer to achieving our mission. \nTogether\, we can create a brighter\, more compassionate world for all. \nThank you for supporting our mission\, your support is invaluable. \n  \nDC-Brookhaven – C Building – Performance Hall Map\n  \nClick Here to Donate or Buy Tickets
URL:https://tavpa.org/event/ashik-veysel-let-my-friends-remember-me/
LOCATION:Brookhaven Campus\, Dallas College\, 3939 Valley View Lane\, Farmers Branch\, 75244\, United States
CATEGORIES:Charity Events
ATTACH;FMTTYPE=image/jpeg:https://tavpa.org/wp-content/uploads/2025/03/WhatsApp-Image-2025-03-03-at-21.54.15-1-e1741028177754.jpeg
END:VEVENT
END:VCALENDAR