BEGIN:VCALENDAR
VERSION:2.0
PRODID:-//tavpa.org - ECPv6.15.15//NONSGML v1.0//EN
CALSCALE:GREGORIAN
METHOD:PUBLISH
X-WR-CALNAME:tavpa.org
X-ORIGINAL-URL:https://tavpa.org
X-WR-CALDESC:Events for tavpa.org
REFRESH-INTERVAL;VALUE=DURATION:PT1H
X-Robots-Tag:noindex
X-PUBLISHED-TTL:PT1H
BEGIN:VTIMEZONE
TZID:America/Chicago
BEGIN:DAYLIGHT
TZOFFSETFROM:-0600
TZOFFSETTO:-0500
TZNAME:CDT
DTSTART:20240310T080000
END:DAYLIGHT
BEGIN:STANDARD
TZOFFSETFROM:-0500
TZOFFSETTO:-0600
TZNAME:CST
DTSTART:20241103T070000
END:STANDARD
BEGIN:DAYLIGHT
TZOFFSETFROM:-0600
TZOFFSETTO:-0500
TZNAME:CDT
DTSTART:20250309T080000
END:DAYLIGHT
BEGIN:STANDARD
TZOFFSETFROM:-0500
TZOFFSETTO:-0600
TZNAME:CST
DTSTART:20251102T070000
END:STANDARD
BEGIN:DAYLIGHT
TZOFFSETFROM:-0600
TZOFFSETTO:-0500
TZNAME:CDT
DTSTART:20260308T080000
END:DAYLIGHT
BEGIN:STANDARD
TZOFFSETFROM:-0500
TZOFFSETTO:-0600
TZNAME:CST
DTSTART:20261101T070000
END:STANDARD
END:VTIMEZONE
BEGIN:VEVENT
DTSTART;TZID=America/Chicago:20250322T170000
DTEND;TZID=America/Chicago:20250322T190000
DTSTAMP:20260420T051058
CREATED:20250303T193410Z
LAST-MODIFIED:20260205T065254Z
UID:9024-1742662800-1742670000@tavpa.org
SUMMARY:Ashik Veysel "LET MY FRIENDS REMEMBER ME"
DESCRIPTION:UNESCO renowned Asik Veysel 52nd Year Remembrance Program \nExcitement is in the air! Get ready to be part of something extraordinary at \nTurkish American Visual And Performing Arts‘s fundraising event. \nEvery registration to this event will bring us closer to achieving our mission. \nTogether\, we can create a brighter\, more compassionate world for all. \nThank you for supporting our mission\, your support is invaluable. \n  \nDC-Brookhaven – C Building – Performance Hall Map\n  \nClick Here to Donate or Buy Tickets
URL:https://tavpa.org/event/ashik-veysel-let-my-friends-remember-me/
LOCATION:Brookhaven Campus\, Dallas College\, 3939 Valley View Lane\, Farmers Branch\, 75244\, United States
CATEGORIES:Charity Events
ATTACH;FMTTYPE=image/jpeg:https://tavpa.org/wp-content/uploads/2025/03/WhatsApp-Image-2025-03-03-at-21.54.15-1-e1741028177754.jpeg
END:VEVENT
END:VCALENDAR